BEGIN:VCALENDAR
VERSION:2.0
PRODID:spatie/icalendar-generator
DESCRIPTION:Veranstaltungen von Grundschule Heiligenkirchen
X-WR-CALDESC:Veranstaltungen von Grundschule Heiligenkirchen
REFRESH-INTERVAL;VALUE=DURATION:PT1440M
X-PUBLISHED-TTL:PT1440M
BEGIN:VTIMEZONE
TZID:Europe/Berlin
BEGIN:STANDARD
DTSTART:20251026T030000Z
TZOFFSETFROM:+0200
TZOFFSETTO:+0100
END:STANDARD
BEGIN:DAYLIGHT
DTSTART:20260329T020000Z
TZOFFSETFROM:+0100
TZOFFSETTO:+0200
END:DAYLIGHT
END:VTIMEZONE
BEGIN:VTIMEZONE
TZID:UTC
BEGIN:STANDARD
DTSTART:20250724T155514Z
TZOFFSETFROM:+0000
TZOFFSETTO:+0000
END:STANDARD
END:VTIMEZONE
BEGIN:VEVENT
UID:55-17
DTSTAMP:20260420T155514Z
SUMMARY:Osterferien
LOCATION:
ORGANIZER;CN=Redaktion@gshk_2024:MAILTO:tf@bildwort.com
DTSTART;TZID=Europe/Berlin;VALUE=DATE:20260330
DTEND;TZID=Europe/Berlin;VALUE=DATE:20260412
X-ALT-DESC;FMTTYPE=TEXT/HTML:30. März - 02. April OGS geschlossen 7. - 10.
  April OGS geöffnet
CATEGORIES:General
URL;VALUE=URI:https://grundschuleheiligenkirchen.de/mc-events/osterferien/
METHOD:PUBLISH
END:VEVENT
END:VCALENDAR